BEGIN:VCALENDAR
VERSION:2.0
PRODID:-//Sabre//Sabre VObject 4.5.8//EN
CALSCALE:GREGORIAN
METHOD:PUBLISH
LAST-MODIFIED:20260421T194134Z
BEGIN:VTIMEZONE
TZID:America/New_York
X-MICROSOFT-CDO-TZID:10
BEGIN:STANDARD
DTSTART:20251102T060000
TZOFFSETFROM:-0400
TZOFFSETTO:-0500
TZNAME:EST
END:STANDARD
BEGIN:STANDARD
DTSTART:20261101T060000
TZOFFSETFROM:-0400
TZOFFSETTO:-0500
TZNAME:EST
END:STANDARD
BEGIN:DAYLIGHT
DTSTART:20260308T070000
TZOFFSETFROM:-0500
TZOFFSETTO:-0400
TZNAME:EDT
END:DAYLIGHT
END:VTIMEZONE
BEGIN:VEVENT
UID:bc0bed33-fd93-40a6-95bb-10f27c641863
DTSTAMP:20260421T194134Z
SUMMARY:Pointer Events WG call
DTSTART;TZID=America/New_York:20260422T100000
DTEND;TZID=America/New_York:20260422T110000
DESCRIPTION:https://www.w3.org/events/meetings/bc0bed33-fd93-40a6-95bb-10f2
 7c641863/20260422T100000/\n\nRegular fortnightly call \n\n* [Issues](https
 ://github.com/w3c/pointerevents/issues)\n* [Pull Requests](https://github.
 com/w3c/pointerevents/pulls)\n* [Draft](https://w3c.github.io/pointerevent
 s/)\n* [Mailing list](https://lists.w3.org/Archives/Public/public-pointer-
 events/)\n\nAgenda: https://www.w3.org/Search/Mail/Public/search?keywords=
 &hdr-1-name=subject&hdr-1-query=%22WG+Call%22&index-type=t&type-index=publ
 ic-pointer-events\n\nAgenda\n\n* Expose 'inertial scrolling state' in whee
 l events https://github.com/w3c/pointerevents/issues/587\n* Follow-up from
  W3C Breakout Day session https://github.com/w3c/breakouts-day-2026/issues
 /3\n* Status of PEv3 ?\n\nMinutes from last meeting https://www.w3.org/202
 6/03/11-pointerevents-minutes.html and action items https://www.w3.org/202
 6/02/25-pointerevents-minutes.html#ActionSummary
STATUS:CONFIRMED
CREATED:20260421T194134Z
LAST-MODIFIED:20260421T194134Z
SEQUENCE:4
ORGANIZER;CN=W3C Calendar;PARTSTAT=ACCEPTED;ROLE=NON-PARTICIPANT:mailto:nor
 eply@w3.org
RECURRENCE-ID;TZID=America/New_York:20260422T100000
END:VEVENT
END:VCALENDAR
